BEGIN:VCALENDAR
VERSION:2.0
PRODID:-//Paradise Valley and Rancho Solano Golf Courses - ECPv6.15.12.2//NONSGML v1.0//EN
CALSCALE:GREGORIAN
METHOD:PUBLISH
X-ORIGINAL-URL:https://fairfieldgolf.com
X-WR-CALDESC:Events for Paradise Valley and Rancho Solano Golf Courses
REFRESH-INTERVAL;VALUE=DURATION:PT1H
X-Robots-Tag:noindex
X-PUBLISHED-TTL:PT1H
BEGIN:VTIMEZONE
TZID:UTC
BEGIN:STANDARD
TZOFFSETFROM:+0000
TZOFFSETTO:+0000
TZNAME:UTC
DTSTART:20250101T000000
END:STANDARD
END:VTIMEZONE
BEGIN:VEVENT
DTSTART;TZID=UTC:20260110T170000
DTEND;TZID=UTC:20260110T200000
DTSTAMP:20260421T104730
CREATED:20251211T205001Z
LAST-MODIFIED:20251219T195002Z
UID:10000227-1768064400-1768075200@fairfieldgolf.com
SUMMARY:Karaoke Night at Rancho Solano
DESCRIPTION:Hosted by Wingman Karaoke. No reservations Needed! \nJoin us at Rancho Solano for our Karaoke Night! Grab the mic & sing-along to all of your favorite tunes. 
URL:https://fairfieldgolf.com/event/karaoke-night-at-rancho-solano/
LOCATION:Rancho Solano Golf Course\, 3250 Rancho Solano Pkwy\, Fairfield\, CA\, 94534
ATTACH;FMTTYPE=image/png:https://fairfieldgolf.com/wp-content/uploads/2025/12/Karaoke-night-Flyer-Rancho-2026-SocialMedia.png
END:VEVENT
END:VCALENDAR